BEGIN:VCALENDAR
VERSION:2.0
PRODID:-//TYPO3/NONSGML Calendarize//EN
BEGIN:VEVENT
UID:calendarize-5180
DTSTAMP:20260420T151030Z
DTSTART:20260504T183000Z
DTEND:20260504T200000Z
SUMMARY:Auslandsreise · Foreign Travel
DESCRIPTION:Deutschland 2026 · DCP\, Original version Einführung
X-ALT-DESC;FMTTYPE=text/html:<p>Deutschland 2026 · DCP\, Original version
 <br/><em> Einführung</em></p>
LOCATION:Arsenal
END:VEVENT
END:VCALENDAR
