BEGIN:VCALENDAR
VERSION:2.0
PRODID:-//TYPO3/NONSGML Calendarize//EN
BEGIN:VEVENT
UID:calendarize-5188
DTSTAMP:20260420T150332Z
DTSTART:20260510T134500Z
DTEND:20260510T150000Z
SUMMARY:We Glitch So Easily · 
DESCRIPTION: · Digital file
X-ALT-DESC;FMTTYPE=text/html:<p> · Digital file</p>
LOCATION:Arsenal
END:VEVENT
END:VCALENDAR
