BEGIN:VCALENDAR
VERSION:2.0
PRODID:-//TYPO3/NONSGML Calendarize//EN
BEGIN:VEVENT
UID:calendarize-5192
DTSTAMP:20260420T150158Z
DTSTART:20260512T180000Z
DTEND:20260512T200000Z
SUMMARY:Cronaca familiare · Family Diary
DESCRIPTION:Italy 1962\, Marcello Mastroianni\, Jacques Perrin\, Salvo Ran
 done · 35 mm\, Original version with English subtitles
X-ALT-DESC;FMTTYPE=text/html:<p>Italy 1962\, Marcello Mastroianni\, Jacque
 s Perrin\, Salvo Randone · 35 mm\, Original version with English subtitle
 s</p>
LOCATION:Arsenal
END:VEVENT
END:VCALENDAR
