BEGIN:VCALENDAR
VERSION:2.0
PRODID:-//TYPO3/NONSGML Calendarize//EN
BEGIN:VEVENT
UID:calendarize-5193
DTSTAMP:20260420T150025Z
DTSTART:20260513T180000Z
DTEND:20260513T200000Z
SUMMARY:Le soldatesse · The Camp Followers
DESCRIPTION:Italy\, France\, FRG\, Yugoslavia 1965\, Anna Karina\, Tomás 
 Milián\, Mario Adorf\, Lea Massari\, Marie Laforêt · 35 mm\, Original v
 ersion with English subtitles
X-ALT-DESC;FMTTYPE=text/html:<p>Italy\, France\, FRG\, Yugoslavia 1965\, A
 nna Karina\, Tomás Milián\, Mario Adorf\, Lea Massari\, Marie Laforêt ·
  35 mm\, Original version with English subtitles</p>
LOCATION:Arsenal
END:VEVENT
END:VCALENDAR
