BEGIN:VCALENDAR
VERSION:2.0
PRODID:-//TYPO3/NONSGML Calendarize//EN
BEGIN:VEVENT
UID:calendarize-5198
DTSTAMP:20260420T150248Z
DTSTART:20260516T150000Z
DTEND:20260516T170000Z
SUMMARY:Fasia Jansen – Sängerin · 
DESCRIPTION:FRG 1985 · DCP\, Original version Einführung
X-ALT-DESC;FMTTYPE=text/html:<p>FRG 1985 · DCP\, Original version<br/><em
 > Einführung</em></p>
LOCATION:Arsenal
END:VEVENT
END:VCALENDAR
