BEGIN:VCALENDAR
VERSION:2.0
PRODID:-//TYPO3/NONSGML Calendarize//EN
BEGIN:VEVENT
UID:calendarize-5200
DTSTAMP:20260420T150144Z
DTSTART:20260516T183000Z
DTEND:20260516T200000Z
SUMMARY:Eleven by Fourteen · 
DESCRIPTION:USA 1977 · 35 mm\, Without dialogue
X-ALT-DESC;FMTTYPE=text/html:<p>USA 1977 · 35 mm\, Without dialogue</p>
LOCATION:Arsenal
END:VEVENT
END:VCALENDAR
