BEGIN:VCALENDAR
VERSION:2.0
PRODID:-//TYPO3/NONSGML Calendarize//EN
BEGIN:VEVENT
UID:calendarize-5202
DTSTAMP:20260420T150025Z
DTSTART:20260517T160000Z
DTEND:20260517T170000Z
SUMMARY:Paris qui dort · The Crazy Ray
DESCRIPTION:France 1925\, Henri Rollan\, Albert Préjean\, Madeleine Rodri
 gue\, Marcel Vallée\, Charles Martinelli · DCP\, French Intertitles and 
 English subtitles Einführung
X-ALT-DESC;FMTTYPE=text/html:<p>France 1925\, Henri Rollan\, Albert Préje
 an\, Madeleine Rodrigue\, Marcel Vallée\, Charles Martinelli · DCP\, Fre
 nch Intertitles and English subtitles<br/><em> Einführung</em></p>
LOCATION:Arsenal
END:VEVENT
END:VCALENDAR
