BEGIN:VCALENDAR
VERSION:2.0
PRODID:-//TYPO3/NONSGML Calendarize//EN
BEGIN:VEVENT
UID:calendarize-5204
DTSTAMP:20260420T130733Z
DTSTART:20260518T170000Z
DTEND:20260518T190000Z
SUMMARY:Filmmakers’ Choice: Autonomy · 
DESCRIPTION: Einführung
X-ALT-DESC;FMTTYPE=text/html:<p><br/><em> Einführung</em></p>
LOCATION:Arsenal
END:VEVENT
END:VCALENDAR
