BEGIN:VCALENDAR
VERSION:2.0
PRODID:-//TYPO3/NONSGML Calendarize//EN
BEGIN:VEVENT
UID:calendarize-5209
DTSTAMP:20260420T164715Z
DTSTART:20260522T150000Z
DTEND:20260522T170000Z
SUMMARY:Citizen Kane · 
DESCRIPTION:USA 1941\, Orson Welles\, Joseph Cotten\, Dorothy Comingore ·
  35 mm\, Original version with Spanish subtitles
X-ALT-DESC;FMTTYPE=text/html:<p>USA 1941\, Orson Welles\, Joseph Cotten\, 
 Dorothy Comingore · 35 mm\, Original version with Spanish subtitles</p>
LOCATION:Arsenal
END:VEVENT
END:VCALENDAR
