BEGIN:VCALENDAR
VERSION:2.0
PRODID:-//TYPO3/NONSGML Calendarize//EN
BEGIN:VEVENT
UID:calendarize-5210
DTSTAMP:20260420T150157Z
DTSTART:20260522T180000Z
DTEND:20260522T200000Z
SUMMARY:La prima notte di quiete · October in Rimini
DESCRIPTION:Italy\, France 1972\, Alain Delon\, Sonia Petrovna\, Giancarlo
  Giannini\, Lea Massari\, Alida Valli\, Renato Salvatori · 35 mm\, Origin
 al version with English subtitles
X-ALT-DESC;FMTTYPE=text/html:<p>Italy\, France 1972\, Alain Delon\, Sonia 
 Petrovna\, Giancarlo Giannini\, Lea Massari\, Alida Valli\, Renato Salvato
 ri · 35 mm\, Original version with English subtitles</p>
LOCATION:Arsenal
END:VEVENT
END:VCALENDAR
