BEGIN:VCALENDAR
VERSION:2.0
PRODID:-//TYPO3/NONSGML Calendarize//EN
BEGIN:VEVENT
UID:calendarize-5211
DTSTAMP:20260420T150156Z
DTSTART:20260523T130000Z
DTEND:20260523T150000Z
SUMMARY:Speedy · 
DESCRIPTION:USA 1928\, Harold Lloyd\, Ann Christy\, Bert Woodruff\, Babe R
 uth · DCP\, English intertitles
X-ALT-DESC;FMTTYPE=text/html:<p>USA 1928\, Harold Lloyd\, Ann Christy\, Be
 rt Woodruff\, Babe Ruth · DCP\, English intertitles</p>
LOCATION:Arsenal
END:VEVENT
END:VCALENDAR
