BEGIN:VCALENDAR
VERSION:2.0
PRODID:-//TYPO3/NONSGML Calendarize//EN
BEGIN:VEVENT
UID:calendarize-5213
DTSTAMP:20260420T150159Z
DTSTART:20260523T180000Z
DTEND:20260523T203000Z
SUMMARY:Il deserto dei tartari · The Desert of the Tartars
DESCRIPTION:Italy\, France\, FRG 1976\, Vittorio Gassman\, Jacques Perrin\
 , Jean-Louis Trintignant\, Philippe Noiret\, Giuliano Gemma\, Helmut Griem
 \, Fernando Rey\, Max von Sydow\, Francisco Rabal\, Laurent Terzieff · 35
  mm\, Original version with English subtitles
X-ALT-DESC;FMTTYPE=text/html:<p>Italy\, France\, FRG 1976\, Vittorio Gassm
 an\, Jacques Perrin\, Jean-Louis Trintignant\, Philippe Noiret\, Giuliano 
 Gemma\, Helmut Griem\, Fernando Rey\, Max von Sydow\, Francisco Rabal\, La
 urent Terzieff · 35 mm\, Original version with English subtitles</p>
LOCATION:Arsenal
END:VEVENT
END:VCALENDAR
