BEGIN:VCALENDAR
VERSION:2.0
PRODID:-//TYPO3/NONSGML Calendarize//EN
BEGIN:VEVENT
UID:calendarize-5220
DTSTAMP:20260420T151004Z
DTSTART:20260527T180000Z
DTEND:20260527T200000Z
SUMMARY:The Feeling That the Time for Doing Something Has Passed · 
DESCRIPTION:USA 2023\, Joanna Arnow\, Scott Cohen\, Babak Tafti · DCP\, O
 riginal version with German subtitles Einführung
X-ALT-DESC;FMTTYPE=text/html:<p>USA 2023\, Joanna Arnow\, Scott Cohen\, Ba
 bak Tafti · DCP\, Original version with German subtitles<br/><em> Einfüh
 rung</em></p>
LOCATION:Arsenal
END:VEVENT
END:VCALENDAR
