BEGIN:VCALENDAR
VERSION:2.0
PRODID:-//TYPO3/NONSGML Calendarize//EN
BEGIN:VEVENT
UID:calendarize-5223
DTSTAMP:20260420T151127Z
DTSTART:20260529T180000Z
DTEND:20260529T200000Z
SUMMARY:Winter’s Bone · 
DESCRIPTION:USA 2010\, Jennifer Lawrence\, John Hawkes · 35 mm\, Original
  version with German subtitles Einführung
X-ALT-DESC;FMTTYPE=text/html:<p>USA 2010\, Jennifer Lawrence\, John Hawkes
  · 35 mm\, Original version with German subtitles<br/><em> Einführung</e
 m></p>
LOCATION:Arsenal
END:VEVENT
END:VCALENDAR
