BEGIN:VCALENDAR
VERSION:2.0
PRODID:-//TYPO3/NONSGML Calendarize//EN
BEGIN:VEVENT
UID:calendarize-5224
DTSTAMP:20260420T151004Z
DTSTART:20260530T153000Z
DTEND:20260530T170000Z
SUMMARY:La pointe courte · 
DESCRIPTION:France 1954\, Silvia Monfort\, Philippe Noiret · DCP\, Origin
 al version with English subtitles
X-ALT-DESC;FMTTYPE=text/html:<p>France 1954\, Silvia Monfort\, Philippe No
 iret · DCP\, Original version with English subtitles</p>
LOCATION:Arsenal
END:VEVENT
END:VCALENDAR
