BEGIN:VCALENDAR
VERSION:2.0
PRODID:-//TYPO3/NONSGML Calendarize//EN
BEGIN:VEVENT
UID:calendarize-5229
DTSTAMP:20260420T150942Z
DTSTART:20260605T180000Z
DTEND:20260605T200000Z
SUMMARY:Winter’s Bone · 
DESCRIPTION:USA 2010\, Jennifer Lawrence\, John Hawkes · 35 mm\, Original
  version with German subtitles
X-ALT-DESC;FMTTYPE=text/html:<p>USA 2010\, Jennifer Lawrence\, John Hawkes
  · 35 mm\, Original version with German subtitles</p>
LOCATION:Arsenal
END:VEVENT
END:VCALENDAR
