BEGIN:VCALENDAR
VERSION:2.0
PRODID:-//TYPO3/NONSGML Calendarize//EN
BEGIN:VEVENT
UID:calendarize-5231
DTSTAMP:20260420T150841Z
DTSTART:20260609T180000Z
DTEND:20260609T200000Z
SUMMARY:Stray Dog · 
DESCRIPTION:USA 2014\, Ron „Stray Dog“ Hall\, Alicia Soriano Hall · D
 igital file\, Original version
X-ALT-DESC;FMTTYPE=text/html:<p>USA 2014\, Ron „Stray Dog“ Hall\, Alic
 ia Soriano Hall · Digital file\, Original version</p>
LOCATION:Arsenal
END:VEVENT
END:VCALENDAR
