BEGIN:VCALENDAR
VERSION:2.0
PRODID:-//TYPO3/NONSGML Calendarize//EN
BEGIN:VEVENT
UID:calendarize-5240
DTSTAMP:20260420T151030Z
DTSTART:20260524T130000Z
DTEND:20260524T200000Z
SUMMARY:Black Lives Audio Triptych · 
DESCRIPTION:Germany 2024
X-ALT-DESC;FMTTYPE=text/html:<p>Germany 2024</p>
LOCATION:Arsenal
END:VEVENT
END:VCALENDAR
