BEGIN:VCALENDAR
VERSION:2.0
PRODID:-//TYPO3/NONSGML Calendarize//EN
BEGIN:VEVENT
UID:calendarize-5108
DTSTAMP:20260420T131037Z
DTSTART:20260503T180000Z
DTEND:20260503T200000Z
SUMMARY:Open Cinema: short films from the Arsenal’s collection · 
DESCRIPTION:
X-ALT-DESC;FMTTYPE=text/html:<p></p>
LOCATION:Arsenal
END:VEVENT
END:VCALENDAR
