BEGIN:VCALENDAR
VERSION:2.0
PRODID:-//TYPO3/NONSGML Calendarize//EN
BEGIN:VEVENT
UID:calendarize-5182
DTSTAMP:20260420T131920Z
DTSTART:20260506T163000Z
DTEND:20260506T180000Z
SUMMARY:Lecture by Erica Balsom: "Re-entering the Movie Theater" and scree
 ning: Musidora: Festival international des films de femmes · 
DESCRIPTION:France 1974
X-ALT-DESC;FMTTYPE=text/html:<p>France 1974</p>
LOCATION:Arsenal
END:VEVENT
END:VCALENDAR
