BEGIN:VCALENDAR
VERSION:2.0
PRODID:-//TYPO3/NONSGML Calendarize//EN
BEGIN:VEVENT
UID:calendarize-5184
DTSTAMP:20260420T131920Z
DTSTART:20260507T180000Z
DTEND:20260507T200000Z
SUMMARY:Roy Cohn/Jack Smith · 
DESCRIPTION:USA 1994 · 16 mm\, Original version with German subtitles Ein
 führung
X-ALT-DESC;FMTTYPE=text/html:<p>USA 1994 · 16 mm\, Original version with 
 German subtitles<br/><em> Einführung</em></p>
LOCATION:Arsenal
END:VEVENT
END:VCALENDAR
