BEGIN:VCALENDAR
VERSION:2.0
PRODID:-//TYPO3/NONSGML Calendarize//EN
BEGIN:VEVENT
UID:calendarize-5185
DTSTAMP:20260420T131036Z
DTSTART:20260508T180000Z
DTEND:20260508T200000Z
SUMMARY:Estate violenta · Violent Summer
DESCRIPTION:Italy\, France 1959\, Eleonora Rossi Drago\, Jean-Louis Trinti
 gnant · 35 mm\, Original version with English subtitles Einführung
X-ALT-DESC;FMTTYPE=text/html:<p>Italy\, France 1959\, Eleonora Rossi Drago
 \, Jean-Louis Trintignant · 35 mm\, Original version with English subtitl
 es<br/><em> Einführung</em></p>
LOCATION:Arsenal
END:VEVENT
END:VCALENDAR
