BEGIN:VCALENDAR
VERSION:2.0
PRODID:-//TYPO3/NONSGML Calendarize//EN
BEGIN:VEVENT
UID:calendarize-5195
DTSTAMP:20260420T131116Z
DTSTART:20260515T153000Z
DTEND:20260515T180000Z
SUMMARY:La pointe courte · 
DESCRIPTION:France 1954\, Silvia Monfort\, Philippe Noiret · DCP\, Origin
 al version with English subtitles
X-ALT-DESC;FMTTYPE=text/html:<p>France 1954\, Silvia Monfort\, Philippe No
 iret · DCP\, Original version with English subtitles</p>
LOCATION:Arsenal
END:VEVENT
END:VCALENDAR
