BEGIN:VCALENDAR
VERSION:2.0
PRODID:-//TYPO3/NONSGML Calendarize//EN
BEGIN:VEVENT
UID:calendarize-5196
DTSTAMP:20260420T131032Z
DTSTART:20260515T180000Z
DTEND:20260515T200000Z
SUMMARY:Seduto alla sua destra · Black Jesus
DESCRIPTION:Italy 1968\, Woody Strode\, Franco Citti\, Jean Servais · 35 
 mm\, Original version with English subtitles
X-ALT-DESC;FMTTYPE=text/html:<p>Italy 1968\, Woody Strode\, Franco Citti\,
  Jean Servais · 35 mm\, Original version with English subtitles</p>
LOCATION:Arsenal
END:VEVENT
END:VCALENDAR
