BEGIN:VCALENDAR
VERSION:2.0
PRODID:-//TYPO3/NONSGML Calendarize//EN
BEGIN:VEVENT
UID:calendarize-5201
DTSTAMP:20260420T130929Z
DTSTART:20260517T130000Z
DTEND:20260517T150000Z
SUMMARY:Der Prank – April\, April! · 
DESCRIPTION:Germany\, Switzerland 2025\, Noèl Gabriel Kipp\, Max Zheng\, 
 Maïmouna Rudolph-Mbacké\, Laura Tonke · DCP\, Original version
X-ALT-DESC;FMTTYPE=text/html:<p>Germany\, Switzerland 2025\, Noèl Gabriel
  Kipp\, Max Zheng\, Maïmouna Rudolph-Mbacké\, Laura Tonke · DCP\, Origi
 nal version</p>
LOCATION:Arsenal
END:VEVENT
END:VCALENDAR
