BEGIN:VCALENDAR
VERSION:2.0
PRODID:-//TYPO3/NONSGML Calendarize//EN
BEGIN:VEVENT
UID:calendarize-5207
DTSTAMP:20260420T130929Z
DTSTART:20260520T190000Z
DTEND:20260520T210000Z
SUMMARY:Tagediebe · Day Thieves
DESCRIPTION:FRG\, Switzerland 1985 · DCP\, Original version with German s
 ubtitles
X-ALT-DESC;FMTTYPE=text/html:<p>FRG\, Switzerland 1985 · DCP\, Original v
 ersion with German subtitles</p>
LOCATION:Arsenal
END:VEVENT
END:VCALENDAR
