BEGIN:VCALENDAR
VERSION:2.0
PRODID:-//TYPO3/NONSGML Calendarize//EN
BEGIN:VEVENT
UID:calendarize-5212
DTSTAMP:20260420T131032Z
DTSTART:20260523T150000Z
DTEND:20260523T170000Z
SUMMARY:Daughters of the Dust · 
DESCRIPTION:USA 1991\, Cora Lee Day\, Alva Rogers\, Barbara O · DCP\, Ori
 ginal version
X-ALT-DESC;FMTTYPE=text/html:<p>USA 1991\, Cora Lee Day\, Alva Rogers\, Ba
 rbara O · DCP\, Original version</p>
LOCATION:Arsenal
END:VEVENT
END:VCALENDAR
