BEGIN:VCALENDAR
VERSION:2.0
PRODID:-//TYPO3/NONSGML Calendarize//EN
BEGIN:VEVENT
UID:calendarize-5221
DTSTAMP:20260420T131032Z
DTSTART:20260528T180000Z
DTEND:20260528T200000Z
SUMMARY:All that Jazz · 
DESCRIPTION:USA 1979\, Roy Scheider\, Jessica Lange\, Ann Reinking\, Lelan
 d Palmer\, Cliff Gorman · DCP\, Original version Einführung
X-ALT-DESC;FMTTYPE=text/html:<p>USA 1979\, Roy Scheider\, Jessica Lange\, 
 Ann Reinking\, Leland Palmer\, Cliff Gorman · DCP\, Original version<br/>
 <em> Einführung</em></p>
LOCATION:Arsenal
END:VEVENT
END:VCALENDAR
