BEGIN:VCALENDAR
VERSION:2.0
PRODID:-//TYPO3/NONSGML Calendarize//EN
BEGIN:VEVENT
UID:calendarize-5247
DTSTAMP:20260420T130930Z
DTSTART:20260531T120000Z
DTEND:20260531T200000Z
SUMMARY:Black Lives Audio Triptych · 
DESCRIPTION:Germany 2024
X-ALT-DESC;FMTTYPE=text/html:<p>Germany 2024</p>
LOCATION:Arsenal
END:VEVENT
END:VCALENDAR
