BEGIN:VCALENDAR
VERSION:2.0
PRODID:-//TYPO3/NONSGML Calendarize//EN
BEGIN:VEVENT
UID:calendarize-animation-is-not-a-genre-5117
DTSTAMP:20260420T151731Z
DTSTART:20260510T120000Z
DTEND:20260510T133000Z
SUMMARY:Animation Is Not a Genre · 
DESCRIPTION: · Digital file
X-ALT-DESC;FMTTYPE=text/html:<p> · Digital file</p>
LOCATION:Arsenal
END:VEVENT
END:VCALENDAR
