BEGIN:VCALENDAR
VERSION:2.0
PRODID:-//TYPO3/NONSGML Calendarize//EN
BEGIN:VEVENT
UID:calendarize-black-lives-audio-triptych-5165
DTSTAMP:20260420T151530Z
DTSTART:20260518T170000Z
DTEND:20260518T190000Z
SUMMARY:Black Lives Audio Triptych · 
DESCRIPTION:Deutschland 2024
X-ALT-DESC;FMTTYPE=text/html:<p>Deutschland 2024</p>
LOCATION:Arsenal
END:VEVENT
END:VCALENDAR
