BEGIN:VCALENDAR
VERSION:2.0
PRODID:-//TYPO3/NONSGML Calendarize//EN
BEGIN:VEVENT
UID:calendarize-conbody-vs-everybody-5157
DTSTAMP:20260420T151628Z
DTSTART:20260531T120000Z
DTEND:20260531T200000Z
SUMMARY:Conbody vs Everybody · 
DESCRIPTION:USA 2025\, \n\n · Digital file\, OmeU Einführung
X-ALT-DESC;FMTTYPE=text/html:<p>USA 2025\, \n\n · Digital file\, OmeU<br/
 ><em> Einführung</em></p>
LOCATION:Arsenal
END:VEVENT
END:VCALENDAR
