BEGIN:VCALENDAR
VERSION:2.0
PRODID:-//TYPO3/NONSGML Calendarize//EN
BEGIN:VEVENT
UID:calendarize-daughters-of-the-dust-5147
DTSTAMP:20260420T151731Z
DTSTART:20260525T150000Z
DTEND:20260525T170000Z
SUMMARY:Daughters of the Dust · 
DESCRIPTION:USA 1991\, Cora Lee Day\, Alva Rogers\, Barbara O · DCP\, OF
X-ALT-DESC;FMTTYPE=text/html:<p>USA 1991\, Cora Lee Day\, Alva Rogers\, Ba
 rbara O · DCP\, OF</p>
LOCATION:Arsenal
END:VEVENT
END:VCALENDAR
