BEGIN:VCALENDAR
VERSION:2.0
PRODID:-//TYPO3/NONSGML Calendarize//EN
BEGIN:VEVENT
UID:calendarize-eleven-by-fourteen-5130
DTSTAMP:20260420T151730Z
DTSTART:20260516T183000Z
DTEND:20260516T200000Z
SUMMARY:Eleven by Fourteen · Elf mal Vierzehn
DESCRIPTION:USA 1977 · 35 mm\, Ohne Dialog
X-ALT-DESC;FMTTYPE=text/html:<p>USA 1977 · 35 mm\, Ohne Dialog</p>
LOCATION:Arsenal
END:VEVENT
END:VCALENDAR
