BEGIN:VCALENDAR
VERSION:2.0
PRODID:-//TYPO3/NONSGML Calendarize//EN
BEGIN:VEVENT
UID:calendarize-eroeffnung-5105
DTSTAMP:20260420T151408Z
DTSTART:20260503T160000Z
DTEND:20260503T180000Z
SUMMARY:Eröffnung · 
DESCRIPTION: Einführung
X-ALT-DESC;FMTTYPE=text/html:<p><br/><em> Einführung</em></p>
LOCATION:Arsenal
END:VEVENT
END:VCALENDAR
