BEGIN:VCALENDAR
VERSION:2.0
PRODID:-//TYPO3/NONSGML Calendarize//EN
BEGIN:VEVENT
UID:calendarize-everything-is-now-buchpraesentation-5138
DTSTAMP:20260420T170644Z
DTSTART:20260521T180000Z
DTEND:20260521T200000Z
SUMMARY:Everything Is Now – Buchpräsentation · 
DESCRIPTION: Einführung
X-ALT-DESC;FMTTYPE=text/html:<p><br/><em> Einführung</em></p>
LOCATION:Arsenal
END:VEVENT
END:VCALENDAR
