BEGIN:VCALENDAR
VERSION:2.0
PRODID:-//TYPO3/NONSGML Calendarize//EN
BEGIN:VEVENT
UID:calendarize-la-prima-notte-di-quiete-5140
DTSTAMP:20260420T151547Z
DTSTART:20260522T180000Z
DTEND:20260522T200000Z
SUMMARY:La prima notte di quiete · Oktober in Rimini
DESCRIPTION:Italien\, Frankreich 1972\, Alain Delon\, Sonia Petrovna\, Gia
 ncarlo Giannini\, Lea Massari\, Alida Valli\, Renato Salvatori · 35 mm\, 
 OmeU
X-ALT-DESC;FMTTYPE=text/html:<p>Italien\, Frankreich 1972\, Alain Delon\, 
 Sonia Petrovna\, Giancarlo Giannini\, Lea Massari\, Alida Valli\, Renato S
 alvatori · 35 mm\, OmeU</p>
LOCATION:Arsenal
END:VEVENT
END:VCALENDAR
