BEGIN:VCALENDAR
VERSION:2.0
PRODID:-//TYPO3/NONSGML Calendarize//EN
BEGIN:VEVENT
UID:calendarize-la-ragazza-con-la-valigia-5120
DTSTAMP:20260420T151731Z
DTSTART:20260510T180000Z
DTEND:20260510T200000Z
SUMMARY:La ragazza con la valigia · 
DESCRIPTION:Italien\, Frankreich 1961\, Claudia Cardinale\, Jacques Perrin
 \, Gian Maria Volontè\, Riccardo Garrone · 35 mm\, OmeU
X-ALT-DESC;FMTTYPE=text/html:<p>Italien\, Frankreich 1961\, Claudia Cardin
 ale\, Jacques Perrin\, Gian Maria Volontè\, Riccardo Garrone · 35 mm\, O
 meU</p>
LOCATION:Arsenal
END:VEVENT
END:VCALENDAR
