BEGIN:VCALENDAR
VERSION:2.0
PRODID:-//TYPO3/NONSGML Calendarize//EN
BEGIN:VEVENT
UID:calendarize-le-soldatesse-5149
DTSTAMP:20260420T151450Z
DTSTART:20260525T180000Z
DTEND:20260525T200000Z
SUMMARY:Le soldatesse · The Camp Followers
DESCRIPTION:Italien\, Frankreich\, BRD\, Jugoslawien 1965\, Anna Karina\, 
 Tomás Milián\, Mario Adorf\, Lea Massari\, Marie Laforêt · 35 mm\, Ome
 U
X-ALT-DESC;FMTTYPE=text/html:<p>Italien\, Frankreich\, BRD\, Jugoslawien 1
 965\, Anna Karina\, Tomás Milián\, Mario Adorf\, Lea Massari\, Marie Laf
 orêt · 35 mm\, OmeU</p>
LOCATION:Arsenal
END:VEVENT
END:VCALENDAR
