BEGIN:VCALENDAR
VERSION:2.0
PRODID:-//TYPO3/NONSGML Calendarize//EN
BEGIN:VEVENT
UID:calendarize-leave-no-trace-5156
DTSTAMP:20260420T151237Z
DTSTART:20260530T180000Z
DTEND:20260530T200000Z
SUMMARY:Leave No Trace · 
DESCRIPTION:USA 2018\, Ben Foster\, Thomasin Harcourt McKenzie · DCP\, Om
 dU Einführung
X-ALT-DESC;FMTTYPE=text/html:<p>USA 2018\, Ben Foster\, Thomasin Harcourt 
 McKenzie · DCP\, OmdU<br/><em> Einführung</em></p>
LOCATION:Arsenal
END:VEVENT
END:VCALENDAR
