BEGIN:VCALENDAR
VERSION:2.0
PRODID:-//TYPO3/NONSGML Calendarize//EN
BEGIN:VEVENT
UID:calendarize-leave-no-trace-5161
DTSTAMP:20260420T151332Z
DTSTART:20260607T180000Z
DTEND:20260607T200000Z
SUMMARY:Leave No Trace · 
DESCRIPTION:USA 2018\, Ben Foster\, Thomasin Harcourt McKenzie · DCP\, Om
 dU
X-ALT-DESC;FMTTYPE=text/html:<p>USA 2018\, Ben Foster\, Thomasin Harcourt 
 McKenzie · DCP\, OmdU</p>
LOCATION:Arsenal
END:VEVENT
END:VCALENDAR
