BEGIN:VCALENDAR
VERSION:2.0
PRODID:-//TYPO3/NONSGML Calendarize//EN
BEGIN:VEVENT
UID:calendarize-paris-qui-dort-5132
DTSTAMP:20260420T151547Z
DTSTART:20260517T160000Z
DTEND:20260517T170000Z
SUMMARY:Paris qui dort · Paris schläft
DESCRIPTION:Frankreich 1925\, Henri Rollan\, Albert Préjean\, Madeleine R
 odrigue\, Marcel Vallée\, Charles Martinelli · DCP\, Franz. Zwischentite
 l und engl. Untertitel Einführung
X-ALT-DESC;FMTTYPE=text/html:<p>Frankreich 1925\, Henri Rollan\, Albert Pr
 éjean\, Madeleine Rodrigue\, Marcel Vallée\, Charles Martinelli · DCP\,
  Franz. Zwischentitel und engl. Untertitel<br/><em> Einführung</em></p>
LOCATION:Arsenal
END:VEVENT
END:VCALENDAR
