BEGIN:VCALENDAR
VERSION:2.0
PRODID:-//TYPO3/NONSGML Calendarize//EN
BEGIN:VEVENT
UID:calendarize-seduto-alla-sua-destra-5136
DTSTAMP:20260420T151705Z
DTSTART:20260520T170000Z
DTEND:20260520T190000Z
SUMMARY:Seduto alla sua destra · Black Jesus
DESCRIPTION:Italien 1968\, Woody Strode\, Franco Citti\, Jean Servais · 3
 5 mm\, OmeU
X-ALT-DESC;FMTTYPE=text/html:<p>Italien 1968\, Woody Strode\, Franco Citti
 \, Jean Servais · 35 mm\, OmeU</p>
LOCATION:Arsenal
END:VEVENT
END:VCALENDAR
