BEGIN:VCALENDAR
VERSION:2.0
PRODID:-//TYPO3/NONSGML Calendarize//EN
BEGIN:VEVENT
UID:calendarize-tagediebe-5137
DTSTAMP:20260420T151628Z
DTSTART:20260520T190000Z
DTEND:20260520T210000Z
SUMMARY:Tagediebe · 
DESCRIPTION:BRD\, Schweiz 1985 · DCP\, OmdU
X-ALT-DESC;FMTTYPE=text/html:<p>BRD\, Schweiz 1985 · DCP\, OmdU</p>
LOCATION:Arsenal
END:VEVENT
END:VCALENDAR
