BEGIN:VCALENDAR
VERSION:2.0
PRODID:-//TYPO3/NONSGML Calendarize//EN
BEGIN:VEVENT
UID:calendarize-the-feeling-that-the-time-for-doing-something-has-passed-5
 151
DTSTAMP:20260420T151529Z
DTSTART:20260527T180000Z
DTEND:20260527T200000Z
SUMMARY:The Feeling That the Time for Doing Something Has Passed · Dieses
  Gefühl\, dass die Zeit\, etwas zu tun\, vorbei ist
DESCRIPTION:USA 2023\, Joanna Arnow\, Scott Cohen\, Babak Tafti · DCP\, O
 mdU Einführung
X-ALT-DESC;FMTTYPE=text/html:<p>USA 2023\, Joanna Arnow\, Scott Cohen\, Ba
 bak Tafti · DCP\, OmdU<br/><em> Einführung</em></p>
LOCATION:Arsenal
END:VEVENT
END:VCALENDAR
