BEGIN:VCALENDAR
VERSION:2.0
PRODID:-//TYPO3/NONSGML Calendarize//EN
BEGIN:VEVENT
UID:calendarize-vortrag-von-erica-balsom-re-entering-the-movie-theater-und
 -film-musidora-festival-international-des-films-de-femmes-5112
DTSTAMP:20260420T153519Z
DTSTART:20260506T163000Z
DTEND:20260506T180000Z
SUMMARY:Vortrag von Erica Balsom: "Re-entering the Movie Theater" und Film
 : Musidora: Festival international des films de femmes · 
DESCRIPTION:Frankreich 1974
X-ALT-DESC;FMTTYPE=text/html:<p>Frankreich 1974</p>
LOCATION:Arsenal
END:VEVENT
END:VCALENDAR
