BEGIN:VCALENDAR
VERSION:2.0
PRODID:-//TYPO3/NONSGML Calendarize//EN
BEGIN:VEVENT
UID:calendarize-ariel-5121
DTSTAMP:20260420T170012Z
DTSTART:20260511T180000Z
DTEND:20260511T200000Z
SUMMARY:Ariel · 
DESCRIPTION:Finnland 1988\, Turo Pajala\, Susanna Haavisto\, Matti Pellonp
 ää · 35 mm\, OmdU
X-ALT-DESC;FMTTYPE=text/html:<p>Finnland 1988\, Turo Pajala\, Susanna Haav
 isto\, Matti Pellonpää · 35 mm\, OmdU</p>
LOCATION:Arsenal
END:VEVENT
END:VCALENDAR
