BEGIN:VCALENDAR
VERSION:2.0
PRODID:-//TYPO3/NONSGML Calendarize//EN
BEGIN:VEVENT
UID:calendarize-auslandsreise-5110
DTSTAMP:20260420T170814Z
DTSTART:20260504T183000Z
DTEND:20260504T200000Z
SUMMARY:Auslandsreise · 
DESCRIPTION:Deutschland 2026 · DCP\, OF Einführung
X-ALT-DESC;FMTTYPE=text/html:<p>Deutschland 2026 · DCP\, OF<br/><em> Einf
 ührung</em></p>
LOCATION:Arsenal
END:VEVENT
END:VCALENDAR
