BEGIN:VCALENDAR
VERSION:2.0
PRODID:-//TYPO3/NONSGML Calendarize//EN
BEGIN:VEVENT
UID:calendarize-citizen-kane-5153
DTSTAMP:20260420T170623Z
DTSTART:20260529T150000Z
DTEND:20260529T170000Z
SUMMARY:Citizen Kane · 
DESCRIPTION:USA 1941\, Orson Welles\, Joseph Cotten\, Dorothy Comingore ·
  35 mm\, OF mit span. UT
X-ALT-DESC;FMTTYPE=text/html:<p>USA 1941\, Orson Welles\, Joseph Cotten\, 
 Dorothy Comingore · 35 mm\, OF mit span. UT</p>
LOCATION:Arsenal
END:VEVENT
END:VCALENDAR
