BEGIN:VCALENDAR
VERSION:2.0
PRODID:-//TYPO3/NONSGML Calendarize//EN
BEGIN:VEVENT
UID:calendarize-cronaca-familiare-5133
DTSTAMP:20260420T170902Z
DTSTART:20260517T180000Z
DTEND:20260517T200000Z
SUMMARY:Cronaca familiare · Family Diary
DESCRIPTION:Italien 1962\, Marcello Mastroianni\, Jacques Perrin\, Salvo R
 andone · 35 mm\, OmeU
X-ALT-DESC;FMTTYPE=text/html:<p>Italien 1962\, Marcello Mastroianni\, Jacq
 ues Perrin\, Salvo Randone · 35 mm\, OmeU</p>
LOCATION:Arsenal
END:VEVENT
END:VCALENDAR
